BEGIN:VCALENDAR
VERSION:2.0
PRODID:-//Jack and Jill of America, Incorporated  |  Houston Metropolitan Chapter - ECPv6.15.20//NONSGML v1.0//EN
CALSCALE:GREGORIAN
METHOD:PUBLISH
X-WR-CALNAME:Jack and Jill of America, Incorporated  |  Houston Metropolitan Chapter
X-ORIGINAL-URL:https://jackandjillhoustonmetro.org
X-WR-CALDESC:Events for Jack and Jill of America, Incorporated  |  Houston Metropolitan Chapter
REFRESH-INTERVAL;VALUE=DURATION:PT1H
X-Robots-Tag:noindex
X-PUBLISHED-TTL:PT1H
BEGIN:VTIMEZONE
TZID:America/Chicago
BEGIN:DAYLIGHT
TZOFFSETFROM:-0600
TZOFFSETTO:-0500
TZNAME:CDT
DTSTART:20250309T080000
END:DAYLIGHT
BEGIN:STANDARD
TZOFFSETFROM:-0500
TZOFFSETTO:-0600
TZNAME:CST
DTSTART:20251102T070000
END:STANDARD
BEGIN:DAYLIGHT
TZOFFSETFROM:-0600
TZOFFSETTO:-0500
TZNAME:CDT
DTSTART:20260308T080000
END:DAYLIGHT
BEGIN:STANDARD
TZOFFSETFROM:-0500
TZOFFSETTO:-0600
TZNAME:CST
DTSTART:20261101T070000
END:STANDARD
BEGIN:DAYLIGHT
TZOFFSETFROM:-0600
TZOFFSETTO:-0500
TZNAME:CDT
DTSTART:20270314T080000
END:DAYLIGHT
BEGIN:STANDARD
TZOFFSETFROM:-0500
TZOFFSETTO:-0600
TZNAME:CST
DTSTART:20271107T070000
END:STANDARD
END:VTIMEZONE
BEGIN:VEVENT
DTSTART;VALUE=DATE:20260409
DTEND;VALUE=DATE:20260501
DTSTAMP:20260420T031905
CREATED:20260419T163935Z
LAST-MODIFIED:20260419T164639Z
UID:5055-1775692800-1777593599@jackandjillhoustonmetro.org
SUMMARY:Membership Appreciation Month Events 2026
DESCRIPTION:Members Only
URL:https://jackandjillhoustonmetro.org/event/membership-appreciation-month-2026/
ATTACH;FMTTYPE=image/png:https://jackandjillhoustonmetro.org/wp-content/uploads/2024/06/HMPGLogo-colorPB.png
END:VEVENT
END:VCALENDAR